Workbook
Name Amm_neintest: 'Sez.A-B ANAG_RIEPILOGO'!$D$3
Name Ente: '[1]Sez.A-B ANAG_RIEPILOGO'!$C$2
Name Ente_2: '[1]Sez.A-B ANAG_RIEPILOGO'!$C$2
Name Tot_Art2: '[1]Scheda B1 - Personale'!$K$2
Name Tot_Art2BM: '[1]Scheda B2 - Beni e materiali'!$L$2
Name Tot_B1: '[2]SCHEDA B1 - Oneri di personale'!$M$2
Name Tot_sk_rendiconto: 'Sez.A-B ANAG_RIEPILOGO'!$E$13
Name Tot_skA: 'SCHEDA Lett_A'!$N$3
Name Tot_skB: 'SCHEDA Lett_B'!$N$3
Name Tot_skB_CAS: 'SCHEDA Lett_B - CAS'!$Q$3
Name Tot_skB_SAA: 'SCHEDA Lett_B - SAA'!$N$3
Name Tot_skC: 'SCHEDA Lett_C'!$N$3
Name Tot_skD: 'SCHEDA Lett_D'!$N$3
Name Tot_skZZ: 'SCHEDA Altre attività'!$P$3

Sheet Sez.A-B ANAG_RIEPILOGO
B2: SEZIONE "ANAGRAFICA"
B3: EMERGENZA MALTEMPO TOSCANA 2023 Commissario delegato della Regione Toscana OCDPC 1037 del 5 novembre 2023
B5: SEZIONE B - RIEPILOGO PER TIPOLOGIA DI SPESA | E5: IMPORTO
B6: 1 | C6: Scheda Lett_A - (Interventi per ripristini infrastrutture ed impianti) | E6: =Tot_skA -> 0
B7: 2 | C7: Scheda Lett_B - (Soccorso e prima assistenza alla popolazione, Container, Allestimento e gestione aree/strutture temporanee di accoglienza, Trasporti pubblici e privati) | E7: =Tot_skB -> 0
B8: 3 | C8: Scheda Lett_B - (Contributo autonoma sistemazione) | E8: =Tot_skB_CAS -> 0
B9: 4 | C9: Scheda Lett_B - (Soluzioni alloggiative alternative) | E9: =Tot_skB_SAA -> 0
B10: 5 | C10: Scheda Lett_C - (Interventi per messa in sicurezza infrastrutture e protezione patrimonio culturale; Noleggio e movimentazione materiali e mezzi) | E10: =Tot_skC -> 0
B11: 6 | C11: Scheda Lett_D - (Gestione rifiuti speciali e macerie) | E11: =Tot_skD -> 0
B12: 7 | C12: Scheda - (Altre attività) | E12: =Tot_skZZ -> 0
D13: TOTALE | E13: =SUM(E6:E12) -> 0

Sheet SCHEDA Lett_A
B2: SCHEDA lettera A dell'art. 3 del Regolamento (CE) n. 2012/2002 | I2: Amministrazione/Ente | N2: IMPORTO COMPLESSIVO
I3: ='Sez.A-B ANAG_RIEPILOGO'!B3 -> EMERGENZA MALTEMPO TOSCANA 2023 Commissario delegato della Regione Toscana OCDPC 1037 del 5 novembre 2023 | N3: =SUM(O6:O255) -> 0
B5: Progressivo | C5: CUP | D5: CIG | E5: Tipologia | F5: DESCRIZIONE | G5: NUMERO FATTURA | H5: DATA FATTURA (gg/mm/aaaa) | I5: NOME FORNITORE | J5: C.F. / P. IVA DEL FORNITORE | K5: NUMERO O.P. | L5: DATA O.P. (gg/mm/aaaa) | M5: NUMERO QUIETANZA | N5: DATA QUIETANZA (gg/mm/aaaa) | O5: IMPORTO | P5: NOTE
B6: 1 | R6: INTERVENTI PER RIPRISTINI INFRASTRUTTURE ED IMPIANTI
B7: 2
B8: 3
B9: 4
B10: 5
B11: 6
B12: 7
B13: 8
B14: 9
B15: 10
B16: 11
B17: 12
B18: 13
... B255: 250

Sheet SCHEDA Lett_B
B2: SCHEDA lettera B dell'art. 3 del Regolamento (CE) n. 2012/2002 | I2: Amministrazione/Ente | N2: IMPORTO COMPLESSIVO
I3: ='Sez.A-B ANAG_RIEPILOGO'!B3 -> EMERGENZA MALTEMPO TOSCANA 2023 Commissario delegato della Regione Toscana OCDPC 1037 del 5 novembre 2023 | N3: =SUM(O6:O255) -> 0
B5: Progressivo | C5: CUP | D5: CIG | E5: Tipologia | F5: DESCRIZIONE | G5: NUMERO FATTURA | H5: DATA FATTURA (gg/mm/aaaa) | I5: NOME FORNITORE | J5: C.F. / P. IVA DEL FORNITORE | K5: NUMERO O.P. | L5: DATA O.P. (gg/mm/aaaa) | M5: NUMERO QUIETANZA | N5: DATA QUIETANZA (gg/mm/aaaa) | O5: IMPORTO | P5: NOTE
B6: 1 | R6: SOCCORSO E PRIMA ASSISTENZA ALLA POPOLAZIONE
B7: 2 | R7: CONTAINER (AD USO ABITATIVO E/O UFFICIO)
B8: 3 | R8: ALLESTIMENTO E GESTIONE AREE/STRUTTURE TEMPORANEE DI ACCOGLIENZA
B9: 4 | R9: TRASPORTI PUBBLICI E PRIVATI
B10: 5
B11: 6
B12: 7
B13: 8
B14: 9
B15: 10
B16: 11
B17: 12
B18: 13
B19: 14
B20: 15
B21: 16
... B255: 250

Sheet SCHEDA Lett_B - CAS
B2: SCHEDA lettera B dell'art. 3 del Regolamento (CE) n. 2012/2002 Contributo autonoma sistemazione | H2: Amministrazione/Ente | Q2: IMPORTO COMPLESSIVO
H3: ='Sez.A-B ANAG_RIEPILOGO'!B3 -> EMERGENZA MALTEMPO TOSCANA 2023 Commissario delegato della Regione Toscana OCDPC 1037 del 5 novembre 2023 | Q3: =SUM(R6:R255) -> 0
E5: DATI ANAGRAFICI DEI COMPONENTI IL NUCLEO FAMILIARE | K5: DATI DELL'ABITAZIONE COLPITA DALL'EVENTO | M5: DATI DEL LUOGO DI AUTONOMA SISTEMAZIONE
B6: Progressivo | C6: PROTOCOLLO ISTANZA | D6: TITOLARE ISTANZA (indicare con una "X") | E6: COGNOME | F6: NOME | G6: LUOGO DI NASCITA | H6: DATA DI NASCITA (gg/mm/aaaa) | I6: CODICE FISCALE | J6: ETÀ SUPERIORE A 65 ANNI / PORTATORE DI HANDICAP (disabilità >= 67%) (SI/NO) | K6: INDIRIZZO ABITAZIONE COLPITA | L6: TITOLO DI OCCUPAZIONE (proprietà, usufrutto, comodato d'uso, locazione,…) | M6: INDIRIZZO DEL LUOGO | N6: SOLUZIONE ABITATIVA PRESCELTA | O6: TITOLO DI OCCUPAZIONE (proprietà, usufrutto, comodato d'uso, locazione,…) | P6: NUMERO O.P | Q6: DATA O.P. (gg/mm/aaaa) | R6: IMPORTO (inserire l'importo erogato SOLO sulla riga del capofamiglia) | S6: NOTE
B7: 1
B8: 2
B9: 3
B10: 4
B11: 5
B12: 6
B13: 7
B14: 8
B15: 9
B16: 10
B17: 11
B18: 12
... B256: 250

Sheet SCHEDA Lett_B - SAA
B2: SCHEDA lettera B dell'art. 3 del Regolamento (CE) n. 2012/2002 Soluzioni alloggiative alternative | H2: Amministrazione/Ente | N2: IMPORTO COMPLESSIVO
H3: ='Sez.A-B ANAG_RIEPILOGO'!B3 -> EMERGENZA MALTEMPO TOSCANA 2023 Commissario delegato della Regione Toscana OCDPC 1037 del 5 novembre 2023 | N3: =SUM(O7:O256) -> 0
F5: INDICAZIONE QUANTITÀ
B6: Progressivo | C6: ALBERGO / STRUTTURA | D6: INDIRIZZO E INDICAZIONE DEL COMUNE | E6: SERVIZIO OFFERTO (menù a discesa) | F6: NUMERO PERSONE | G6: NUMERO GIORNI | H6: COSTO UNITARIO | I6: NUMERO FATTURA | J6: DATA FATTURA (gg/mm/aaaa) | K6: NUMERO O.P. | L6: DATA O.P. (gg/mm/aaaa) | M6: NUMERO QUIETANZA | N6: DATA QUIETANZA (gg/mm/aaaa) | O6: IMPORTO | P6: NOTE
B7: 1 | Q7: PENSIONE COMPLETA
B8: 2 | Q8: MEZZA PENSIONE
B9: 3 | Q9: SOLO PERNOTTAMENTO
B10: 4 | Q10: LOCAZIONE IMMOBILE
B11: 5
B12: 6
B13: 7
B14: 8
B15: 9
B16: 10
B17: 11
B18: 12
B19: 13
B20: 14
B21: 15
B22: 16
... B256: 250

Sheet SCHEDA Lett_C
B2: SCHEDA lettera C dell'art. 3 del Regolamento (CE) n. 2012/2002 | I2: Amministrazione/Ente | N2: IMPORTO COMPLESSIVO
I3: ='Sez.A-B ANAG_RIEPILOGO'!B3 -> EMERGENZA MALTEMPO TOSCANA 2023 Commissario delegato della Regione Toscana OCDPC 1037 del 5 novembre 2023 | N3: =SUM(O6:O255) -> 0
B5: Progressivo | C5: CUP | D5: CIG | E5: Tipologia | F5: DESCRIZIONE | G5: NUMERO FATTURA | H5: DATA FATTURA (gg/mm/aaaa) | I5: NOME FORNITORE | J5: C.F. / P. IVA DEL FORNITORE | K5: NUMERO O.P. | L5: DATA O.P. (gg/mm/aaaa) | M5: NUMERO QUIETANZA | N5: DATA QUIETANZA (gg/mm/aaaa) | O5: IMPORTO | P5: NOTE
B6: 1 | R6: INTERVENTI PER MESSA IN SICUREZZA INFRASTRUTTURE E PROTEZIONE PATRIMONIO CULTURALE
B7: 2 | R7: NOLEGGIO E MOVIMENTAZIONE MATERIALI E MEZZI DEL PATRIMONIO CULTURALE
B8: 3
B9: 4
B10: 5
B11: 6
B12: 7
B13: 8
B14: 9
B15: 10
B16: 11
B17: 12
B18: 13
B19: 14
... B255: 250

Sheet SCHEDA Lett_D
B2: SCHEDA lettera D dell'art. 3 del Regolamento (CE) n. 2012/2002 | I2: Amministrazione/Ente | N2: IMPORTO COMPLESSIVO
I3: ='Sez.A-B ANAG_RIEPILOGO'!B3 -> EMERGENZA MALTEMPO TOSCANA 2023 Commissario delegato della Regione Toscana OCDPC 1037 del 5 novembre 2023 | N3: =SUM(O6:O255) -> 0
B5: Progressivo | C5: CUP | D5: CIG | E5: Tipologia | F5: DESCRIZIONE | G5: NUMERO FATTURA | H5: DATA FATTURA (gg/mm/aaaa) | I5: NOME FORNITORE | J5: C.F. / P. IVA DEL FORNITORE | K5: NUMERO O.P. | L5: DATA O.P. (gg/mm/aaaa) | M5: NUMERO QUIETANZA | N5: DATA QUIETANZA (gg/mm/aaaa) | O5: IMPORTO | P5: NOTE
B6: 1 | R6: GESTIONE RIFIUTI SPECIALI
B7: 2 | R7: GESTIONE MACERIE
B8: 3 | R8: GESTIONE RIFIUTI SPECIALI E MACERIE/MATERIALE
B9: 4
B10: 5
B11: 6
B12: 7
B13: 8
B14: 9
B15: 10
B16: 11
B17: 12
B18: 13
B19: 14
B20: 15
... B255: 250

Sheet SCHEDA Altre attività
B2: SCHEDA Altre attività | H2: Amministrazione/Ente | P2: IMPORTO COMPLESSIVO
H3: ='Sez.A-B ANAG_RIEPILOGO'!B3 -> EMERGENZA MALTEMPO TOSCANA 2023 Commissario delegato della Regione Toscana OCDPC 1037 del 5 novembre 2023 | P3: =SUM(Q6:Q255) -> 0
B5: Progressivo | C5: CUP | D5: CIG | E5: Tipologia | F5: Voce art. 3 del Regolamento (CE) n. 2012/2002 | G5: DESCRIZIONE | H5: QUANTITÀ | I5: NUMERO FATTURA | J5: DATA FATTURA (gg/mm/aaaa) | K5: NOME FORNITORE | L5: C.F. / P. IVA DEL FORNITORE | M5: NUMERO O.P. | N5: DATA O.P. (gg/mm/aaaa) | O5: NUMERO QUIETANZA | P5: DATA QUIETANZA (gg/mm/aaaa) | Q5: IMPORTO | R5: NOTE
B6: 1
B7: 2
B8: 3
B9: 4
B10: 5
B11: 6
B12: 7
B13: 8
B14: 9
B15: 10
B16: 11
B17: 12
... B255: 250
