Workbook
Name Tipo_Ente: Sez.C!$R$11:$R$13
Name Tot_SezB: Sez.B!$O$60
Name Tot_SezC: Sez.C!$O$60
Name Tot_SezD: Sez.D!$O$60
Name Tot_SezE: Sez.E!$O$60
Name Tot_SezF: Sez.F!$O$60

Sheet Sez.A
A1: MODULISTICA PER LA RENDICONTAZIONE DEI PROGETTI ANNUALITA' 2023 - PREVENZIONE INCENDI BOSCHIVI - tabella riassuntiva - Decreto-legge n. 120 dell'8 settembre 2021 convertito in legge l'8 novembre 2021, n. 155 - | H1: REGIONE | I1: IMPORTO | J1: Colonna1
A2: SEZIONE "A" | H2: ABRUZZO | I2: 635251.88
A3: SCHEDA INSERIMENTO DATI AMMINISTRAZIONE RESPONSABILE DELLA SPESA | H3: BASILICATA | I3: 432531.26
H4: CALABRIA | I4: 899648.11
A5: REGIONE / AMMINISTRAZIONE | H5: CAMPANIA | I5: 1374834.2
A6: FUNZIONARIO* | H6: EMILIA-ROMAGNA | I6: 1330975.6
A7: CODICE FUNZIONARIO* | H7: FRIULI VENEZIA GIULIA | I7: 544099.12
A8: TESORERIA UNICA / CAPITOLO DI SPESA** | H8: LAZIO | I8: 1546164.4
A9: ANNUALITA' | B9: 2023 | H9: LIGURIA | I9: 614720.37
A10: RISORSE ASSEGNATE | B10: =IFERROR(VLOOKUP(B5,Tabella_Enti[],2,FALSE),0) -> 0 | H10: LOMBARDIA | I10: 2320985.8
A11: TOTALE FABBISOGNI RICHIESTI | B11: =A16+C16+E16+C19+E19 -> 0 | H11: MARCHE | I11: 547237.54
A12: * da compilare solo in presenza del funzionario - Le Regioni non devono popolare queste voci ** Le Regioni devono inserire il conto di tesoreria sul quale trasferire i fondi assegnati - viceversa le Amministrazioni devono inserire le coordinate bancarie | H12: MOLISE | I12: 191682.61
A13: DATI CALCOLATI | H13: PIEMONTE | I13: 1619792.1
H14: PUGLIA | I14: 835116.02
A15: Fabbisogni di cui all'art. 1, comma 1, lettera a | C15: Fabbisogni di cui all'art. 1, comma 1, lettera b | E15: Fabbisogni di cui all'art. 1, comma 1, lettera b-bis | H15: SARDEGNA | I15: 1427480.3
A16: =Tot_SezB -> 0 | C16: =Tot_SezC -> 0 | E16: =Tot_SezD -> 0 | H16: SICILIA | I16: 1139059
C18: Fabbisogni di cui all'art. 1, comma 1, lettera c | E18: Fabbisogni di cui all'art. 1, comma 1, lettera d
C19: =Tot_SezE -> 0 | E19: =Tot_SezF -> 0
C20: Totale fabbisogni richiesti | E20: =A16+C16+E16+C19+E19 -> 0 | H20: TOSCANA | I20: 1723506.3
H21: UMBRIA | I21: 518923.82
A22: Regione | C22: Altri Enti | E22: Organizzazioni di Volontariato | H22: VALLE D'AOSTA | I22: 122144.56
A23: =Sez.B!K6+Sez.C!K6+Sez.D!K6+Sez.E!K6+Sez.F!K6 -> 0 | C23: =Sez.B!L6+Sez.C!L6+Sez.D!L6+Sez.E!L6+Sez.F!L6 -> 0 | E23: =Sez.B!M6+Sez.C!M6+Sez.D!M6+Sez.E!M6+Sez.F!M6 -> 0 | H23: VENETO | I23: 1248988
C24: Totale risorse beneficiari | E24: =A23+C23+E23 -> 0 | H24: PROV. AUT. BOLZANO | I24: 446005.75
H25: PROV. AUT. TRENTO | I25: 480853.29 | J25: =SUM(I2:I25) -> 20000000
H26: Ministero della Difesa - Arma dei Carabinieri | I26: 3800000
H27: Ministero dell’Interno - Dipartimento dei Vigili del Fuoco del Soccorso Pubblico e della Difesa Civile | I27: 19701807
H28: Ministero della Difesa - Forze Armate | I28: 1998193 | J28: =SUM(I26:I28) -> 25500000
H29: DPC | I29: 4500000 | J29: =SUM(I29:I29) -> 4500000
I30: Totale Risorse Assegnate | J30: =SUM(J25+J28+J29) -> 50000000

Sheet Sez.B
A1: MODULISTICA PER LA RENDICONTAZIONE DEI PROGETTI ANNUALITA' 2023 - PREVENZIONE INCENDI BOSCHIVI - Decreto-legge n. 120 dell'8 settembre 2021 convertito in legge l'8 novembre 2021, n. 155 -
A2: SEZIONE "B"
A3: FABBISOGNI DI CUI ALL'ART. 1, COMMA 1, LETTERA A)
A4: Misure urgenti per il rafforzamento del coordinamento, l'aggiornamento tecnologico e l'accrescimento della capacità operativa nelle azioni di previsione, prevenzione e lotta attiva contro gli incendi boschivi. "[...] delle tecnologie, anche satellitari, idonee all'integrazione dei sistemi previsionali, nonché di sorveglianza, monitoraggio e rilevamento dell'ambiente, che possono essere utilmente impiegati per il miglioramento degli strumenti di previsione, prevenzione e lotta attiva contro gli incendi boschivi, in particolare per il bollettino di suscettività all'innesco degli incendi boschivi emanato dal Dipartimento, alla revisione della cui disciplina si provvede con apposita direttiva da adottare ai sensi di quanto previsto dall'articolo 15 del codice della protezione civile, di cui al decreto legislativo 2 gennaio 2018, n. 1, e sulla cui base il Dipartimento medesimo provvede alla rimodulazione del dispiegamento dei mezzi aerei della flotta statale, con facoltà per le Regioni e le Province autonome di Trento e di Bolzano, per il Corpo Nazionale dei Vigili del Fuoco e per il Comando unità forestali, ambientali e agroalimentari dell'Arma dei Carabinieri di rimodulare il dispiegamento preventivo dei propri mezzi e delle proprie squadre terrestri;
A5: REGIONE / AMMINISTRAZIONE | D5: FUNZIONARIO | G5: TESORERIA UNICA - CAPITOLO DI SPESA | I5: ANNUALITA' | K5: RISORSE IMPIEGATE DALLA REGIONE | L5: RISORSE IMPIEGATE DA ALTRI ENTI | M5: RISORSE IMPIEGATE DALLE ODV | N5: TOTALE RISORSE IMPIEGATE
A6: =Sez.A!B5 -> 0 | D6: =Sez.A!B6 -> 0 | G6: =Sez.A!B8 -> 0 | I6: =Sez.A!B9 -> 2023 | K6: =SUMIF(D10:E59,"Regione",O10:O59) -> 0 | L6: =SUMIF(D10:E59,"Altri Enti",O10:O59) -> 0 | M6: =SUMIF(D10:E59,"Organizzazioni di Volontariato",O10:O59) -> 0 | N6: =Tot_SezB -> 0
A8: N.P. | B8: DESCRIZIONE PROGETTO - INTERVENTO | D8: BENEFICIARI | F8: DESCRIZIONE DELLA SPESA | I8: CONTRATTO (SPECIFICARE SE IN ESSERE O DA DEFINIRE | J8: CODICE CUP | K8: LOCALIZZAZIONE INTERVENTO | L8: RUP | M8: TEMPI DI REALIZZAZIONE | N8: DATA PRESUNTA DISPONIBILITA' | O8: IMPORTO
D9: REGIONE/ALTRI ENTI/ODV | E9: DESCRIZIONE | F9: ACQUISTO BENI E FORNITURE | G9: ACQUISIZIONE DI SERVIZI | H9: ALTRO | R9: Ente
A10: 1
A11: 2 | R11: Regione
A12: 3 | R12: Altri Enti
A13: 4 | R13: Organizzazioni di Volontariato
A14: 5
A15: 6
A16: 7
A17: 8
A18: 9
A19: 10
A20: 11
A21: 12
A22: 13
A23: 14
A24: 15
A25: 16
... A59: 50
N60: TOTALE PROGETTO | O60: =SUM(O10:O59) -> 0

Sheet Sez.C
A1: MODULISTICA PER LA RENDICONTAZIONE DEI PROGETTI ANNUALITA' 2023 - PREVENZIONE INCENDI BOSCHIVI - Decreto-legge n. 120 dell'8 settembre 2021 convertito in legge l'8 novembre 2021, n. 155 -
A2: SEZIONE "C"
A3: FABBISOGNI DI CUI ALL'ART. 1, COMMA 1, LETTERA B)
A4: Misure urgenti per il rafforzamento del coordinamento, l'aggiornamento tecnologico e l'accrescimento della capacità operativa nelle azioni di previsione, prevenzione e lotta attiva contro gli incendi boschivi. "[...] delle esigenze di potenziamento di mezzi aerei ad ala fissa e rotante e del connesso impiego di mezzi aerei a pilotaggio remoto, ai fini del consolidamento e rafforzamento della capacita' di concorso statale alle attivita' di previsione, prevenzione e lotta attiva contro gli incendi boschivi, anche nel quadro di una possibile strategia comune dell'Unione europea;
A5: REGIONE / AMMINISTRAZIONE | D5: FUNZIONARIO | G5: TESORERIA UNICA - CAPITOLO DI SPESA | I5: ANNUALITA' | K5: RISORSE IMPIEGATE DALLA REGIONE | L5: RISORSE IMPIEGATE DA ALTRI ENTI | M5: RISORSE IMPIEGATE DALLE ODV | N5: TOTALE RISORSE IMPIEGATE
A6: =Sez.A!B5 -> 0 | D6: =Sez.A!B6 -> 0 | G6: =Sez.A!B8 -> 0 | I6: =Sez.A!B9 -> 2023 | K6: =SUMIF(D10:E59,"Regione",O10:O59) -> 0 | L6: =SUMIF(D10:E59,"Altri Enti",O10:O59) -> 0 | M6: =SUMIF(D10:E59,"Organizzazioni di Volontariato",O10:O59) -> 0 | N6: =Tot_SezC -> 0
A8: N.P. | B8: DESCRIZIONE PROGETTO - INTERVENTO | D8: BENEFICIARI | F8: DESCRIZIONE DELLA SPESA | I8: CONTRATTO (SPECIFICARE SE IN ESSERE O DA DEFINIRE | J8: CODICE CUP | K8: LOCALIZZAZIONE INTERVENTO | L8: RUP | M8: TEMPI DI REALIZZAZIONE | N8: DATA PRESUNTA DISPONIBILITA' | O8: IMPORTO
D9: REGIONE/ALTRI ENTI/ODV | E9: DESCRIZIONE | F9: ACQUISTO BENI E FORNITURE | G9: ACQUISIZIONE DI SERVIZI | H9: ALTRO | R9: Ente
A10: 1
A11: 2 | R11: Regione
A12: 3 | R12: Altri Enti
A13: 4 | R13: Organizzazioni di Volontariato
A14: 5
A15: 6
A16: 7
A17: 8
A18: 9
A19: 10
A20: 11
A21: 12
A22: 13
A23: 14
A24: 15
A25: 16
... A59: 50
N60: TOTALE PROGETTO | O60: =SUM(O10:O59) -> 0

Sheet Sez.D
A1: MODULISTICA PER LA RENDICONTAZIONE DEI PROGETTI ANNUALITA' 2023 - PREVENZIONE INCENDI BOSCHIVI - Decreto-legge n. 120 dell'8 settembre 2021 convertito in legge l'8 novembre 2021, n. 155 -
A2: SEZIONE "D"
A3: FABBISOGNI DI CUI ALL'ART. 1, COMMA 1, LETTERA B-BIS)
A4: Misure urgenti per il rafforzamento del coordinamento, l'aggiornamento tecnologico e l'accrescimento della capacità operativa nelle azioni di previsione, prevenzione e lotta attiva contro gli incendi boschivi. "[...] delle esigenze di potenziamento delle strutture di aviosuperfici, elisuperfici e idrosuperfici, ivi incluse misure di semplificazione del sistema autorizzativo per consentirne l'adeguato funzionamento, strettamente connesse al consolidamento delle attività di gestione, previsione, prevenzione e lotta attiva contro gli incendi boschivi, ivi comprese le strutture direttamente correlate, quali distributori di carburanti, hangar e officine, piste di decollo e atterraggio, impianti idrici incluse le vasche di raccolta dell'acqua, fatte salve le procedure di prevenzione degli incendi previste dal regolamento di cui al decreto del Presidente della Repubblica 1° agosto 2011, n. 151;
A5: REGIONE / AMMINISTRAZIONE | D5: FUNZIONARIO | G5: TESORERIA UNICA - CAPITOLO DI SPESA | I5: ANNUALITA' | K5: RISORSE IMPIEGATE DALLA REGIONE | L5: RISORSE IMPIEGATE DA ALTRI ENTI | M5: RISORSE IMPIEGATE DALLE ODV | N5: TOTALE RISORSE IMPIEGATE
A6: =Sez.A!B5 -> 0 | D6: =Sez.A!B6 -> 0 | G6: =Sez.A!B8 -> 0 | I6: =Sez.A!B9 -> 2023 | K6: =SUMIF(D10:E59,"Regione",O10:O59) -> 0 | L6: =SUMIF(D10:E59,"Altri Enti",O10:O59) -> 0 | M6: =SUMIF(D10:E59,"Organizzazioni di Volontariato",O10:O59) -> 0 | N6: =Tot_SezD -> 0
A8: N.P. | B8: DESCRIZIONE PROGETTO - INTERVENTO | D8: BENEFICIARI | F8: DESCRIZIONE DELLA SPESA | I8: CONTRATTO (SPECIFICARE SE IN ESSERE O DA DEFINIRE | J8: CODICE CUP | K8: LOCALIZZAZIONE INTERVENTO | L8: RUP | M8: TEMPI DI REALIZZAZIONE | N8: DATA PRESUNTA DISPONIBILITA' | O8: IMPORTO
D9: REGIONE/ALTRI ENTI/ODV | E9: DESCRIZIONE | F9: ACQUISTO BENI E FORNITURE | G9: ACQUISIZIONE DI SERVIZI | H9: ALTRO | R9: Ente
A10: 1
A11: 2 | R11: Regione
A12: 3 | R12: Altri Enti
A13: 4 | R13: Organizzazioni di Volontariato
A14: 5
A15: 6
A16: 7
A17: 8
A18: 9
A19: 10
A20: 11
A21: 12
A22: 13
A23: 14
A24: 15
A25: 16
... A59: 50
N60: TOTALE PROGETTO | O60: =SUM(O10:O59) -> 0

Sheet Sez.E
A1: MODULISTICA PER LA RENDICONTAZIONE DEI PROGETTI ANNUALITA' 2023 - PREVENZIONE INCENDI BOSCHIVI - Decreto-legge n. 120 dell'8 settembre 2021 convertito in legge l'8 novembre 2021, n. 155 -
A2: SEZIONE "E"
A3: FABBISOGNI DI CUI ALL'ART. 1, COMMA 1, LETTERA C)
A4: Misure urgenti per il rafforzamento del coordinamento, l'aggiornamento tecnologico e l'accrescimento della capacità operativa nelle azioni di previsione, prevenzione e lotta attiva contro gli incendi boschivi. "[...]delle esigenze di potenziamento delle flotte aeree delle regioni e delle infrastrutture a loro supporto, di mezzi terrestri, attrezzature, strumentazioni e dispositivi di protezione individuale, ai fini del consolidamento e rafforzamento della capacita' di lotta attiva contro gli incendi boschivi da parte del Corpo Nazionale dei Vigili del Fuoco, delle Regioni e delle province autonome di Trento e di Bolzano e del volontariato organizzato di protezione civile qualificato per le predette attivita' di lotta attiva;
A5: REGIONE / AMMINISTRAZIONE | D5: FUNZIONARIO | G5: TESORERIA UNICA - CAPITOLO DI SPESA | I5: ANNUALITA' | K5: RISORSE IMPIEGATE DALLA REGIONE | L5: RISORSE IMPIEGATE DA ALTRI ENTI | M5: RISORSE IMPIEGATE DALLE ODV | N5: TOTALE RISORSE IMPIEGATE
A6: =Sez.A!B5 -> 0 | D6: =Sez.A!B6 -> 0 | G6: =Sez.A!B8 -> 0 | I6: =Sez.A!B9 -> 2023 | K6: =SUMIF(D10:D59,"Regione",O10:O59) -> 0 | L6: =SUMIF(D10:D59,"Altri Enti",O10:O59) -> 0 | M6: =SUMIF(D10:D59,"Organizzazioni di Volontariato",O10:O59) -> 0 | N6: =Tot_SezE -> 0
A8: N.P. | B8: DESCRIZIONE PROGETTO - INTERVENTO | D8: BENEFICIARI | F8: DESCRIZIONE DELLA SPESA | I8: CONTRATTO (SPECIFICARE SE IN ESSERE O DA DEFINIRE | J8: CODICE CUP | K8: LOCALIZZAZIONE INTERVENTO | L8: RUP | M8: TEMPI DI REALIZZAZIONE | N8: DATA PRESUNTA DISPONIBILITA' | O8: IMPORTO
D9: REGIONE/ALTRI ENTI/ODV | E9: DESCRIZIONE | F9: ACQUISTO BENI E FORNITURE | G9: ACQUISIZIONE DI SERVIZI | H9: ALTRO
A10: 1
A11: 2 | R11: Regione
A12: 3 | R12: Altri Enti
A13: 4 | R13: Organizzazioni di Volontariato
A14: 5
A15: 6
A16: 7
A17: 8
A18: 9
A19: 10
A20: 11
A21: 12
A22: 13
A23: 14
A24: 15
A25: 16
... A59: 50
N60: TOTALE PROGETTO | O60: =SUM(O9:O59) -> 0

Sheet Sez.F
A1: MMODULISTICA PER LA RENDICONTAZIONE DEI PROGETTI ANNUALITA' 2023 - PREVENZIONE INCENDI BOSCHIVI - Decreto-legge n. 120 dell'8 settembre 2021 convertito in legge l'8 novembre 2021, n. 155 -
A2: SEZIONE "F"
A3: FABBISOGNI DI CUI ALL'ART. 1, COMMA 1, LETTERA D)
A4: Misure urgenti per il rafforzamento del coordinamento, l'aggiornamento tecnologico e l'accrescimento della capacità operativa nelle azioni di previsione, prevenzione e lotta attiva contro gli incendi boschivi. "[...] delle esigenze di formazione del personale addetto alle attivita' contro gli incendi boschivi, comprese le attivita' di messa in salvo degli animali coinvolti.
A5: REGIONE / AMMINISTRAZIONE | D5: FUNZIONARIO | G5: TESORERIA UNICA - CAPITOLO DI SPESA | I5: ANNUALITA' | K5: RISORSE IMPIEGATE DALLA REGIONE | L5: RISORSE IMPIEGATE DA ALTRI ENTI | M5: RISORSE IMPIEGATE DALLE ODV | N5: TOTALE RISORSE IMPIEGATE
A6: =Sez.A!B5 -> 0 | D6: =Sez.A!B6 -> 0 | G6: =Sez.A!B8 -> 0 | I6: =Sez.A!B9 -> 2023 | K6: =SUMIF(D10:D59,"Regione",O10:O59) -> 0 | L6: =SUMIF(D10:D59,"Altri Enti",O10:O59) -> 0 | M6: =SUMIF(D10:D59,"Organizzazioni di Volontariato",O10:O59) -> 0 | N6: =Tot_SezF -> 0
A8: N.P. | B8: DESCRIZIONE PROGETTO - INTERVENTO | D8: BENEFICIARI | F8: DESCRIZIONE DELLA SPESA | I8: CONTRATTO (SPECIFICARE SE IN ESSERE O DA DEFINIRE | J8: CODICE CUP | K8: NUMERO DEL PERSONALE AMMESSO ALLA FORMAZIONE | L8: RUP | M8: TEMPI DI REALIZZAZIONE | N8: ORE DI FORMAZIONE | O8: IMPORTO
D9: REGIONE/ALTRI ENTI/ODV | E9: DESCRIZIONE | F9: ACQUISTO BENI E FORNITURE | G9: ACQUISIZIONE DI SERVIZI | H9: ALTRO
A10: 1
A11: 2 | R11: Regione
A12: 3 | R12: Altri Enti
A13: 4 | R13: Organizzazioni di Volontariato
A14: 5
A15: 6
A16: 7
A17: 8
A18: 9
A19: 10
A20: 11
A21: 12
A22: 13
A23: 14
A24: 15
A25: 16
... A59: 50
N60: TOTALE PROGETTO | O60: =SUM(O9:O59) -> 0
